BEGIN:VCALENDAR
VERSION:2.0
PRODID:-//Rallye de la Sarthe - ECPv6.3.7//NONSGML v1.0//EN
CALSCALE:GREGORIAN
METHOD:PUBLISH
X-ORIGINAL-URL:https://rallyedelasarthe.com
X-WR-CALDESC:évènements pour Rallye de la Sarthe
REFRESH-INTERVAL;VALUE=DURATION:PT1H
X-Robots-Tag:noindex
X-PUBLISHED-TTL:PT1H
BEGIN:VTIMEZONE
TZID:Europe/Paris
BEGIN:DAYLIGHT
TZOFFSETFROM:+0100
TZOFFSETTO:+0200
TZNAME:CEST
DTSTART:20250330T010000
END:DAYLIGHT
BEGIN:STANDARD
TZOFFSETFROM:+0200
TZOFFSETTO:+0100
TZNAME:CET
DTSTART:20251026T010000
END:STANDARD
END:VTIMEZONE
BEGIN:VEVENT
DTSTART;TZID=Europe/Paris:20250427T090000
DTEND;TZID=Europe/Paris:20250427T170000
DTSTAMP:20260422T180227
CREATED:20250129T175848Z
LAST-MODIFIED:20250129T175848Z
UID:2452-1745744400-1745773200@rallyedelasarthe.com
SUMMARY:JOURNEE DECOUVERTE RALLYE
DESCRIPTION:
URL:https://rallyedelasarthe.com/event/journee-decouverte-rallye-5/
LOCATION:CERDON 01
END:VEVENT
END:VCALENDAR