BEGIN:VCALENDAR
VERSION:2.0
PRODID:-//Rallye de la Sarthe - ECPv6.3.7//NONSGML v1.0//EN
CALSCALE:GREGORIAN
METHOD:PUBLISH
X-ORIGINAL-URL:https://rallyedelasarthe.com
X-WR-CALDESC:évènements pour Rallye de la Sarthe
REFRESH-INTERVAL;VALUE=DURATION:PT1H
X-Robots-Tag:noindex
X-PUBLISHED-TTL:PT1H
BEGIN:VTIMEZONE
TZID:Europe/Paris
BEGIN:DAYLIGHT
TZOFFSETFROM:+0100
TZOFFSETTO:+0200
TZNAME:CEST
DTSTART:20250330T010000
END:DAYLIGHT
BEGIN:STANDARD
TZOFFSETFROM:+0200
TZOFFSETTO:+0100
TZNAME:CET
DTSTART:20251026T010000
END:STANDARD
END:VTIMEZONE
BEGIN:VEVENT
DTSTART;VALUE=DATE:20251006
DTEND;VALUE=DATE:20251008
DTSTAMP:20260420T065111
CREATED:20250129T184843Z
LAST-MODIFIED:20250129T184843Z
UID:2505-1759708800-1759881599@rallyedelasarthe.com
SUMMARY:STAGE INISIDE
DESCRIPTION:L’ASMACO organise des stages d’initiation à la conduite du side-car depuis 35 ans. Osez la troisième roue !
URL:https://rallyedelasarthe.com/event/stage-iniside-5/
LOCATION:LE MANS
END:VEVENT
END:VCALENDAR