BEGIN:VCALENDAR
VERSION:2.0
PRODID:-//Rallye de la Sarthe - ECPv6.3.7//NONSGML v1.0//EN
CALSCALE:GREGORIAN
METHOD:PUBLISH
X-WR-CALNAME:Rallye de la Sarthe
X-ORIGINAL-URL:https://rallyedelasarthe.com
X-WR-CALDESC:évènements pour Rallye de la Sarthe
REFRESH-INTERVAL;VALUE=DURATION:PT1H
X-Robots-Tag:noindex
X-PUBLISHED-TTL:PT1H
BEGIN:VTIMEZONE
TZID:Europe/Paris
BEGIN:DAYLIGHT
TZOFFSETFROM:+0100
TZOFFSETTO:+0200
TZNAME:CEST
DTSTART:20250330T010000
END:DAYLIGHT
BEGIN:STANDARD
TZOFFSETFROM:+0200
TZOFFSETTO:+0100
TZNAME:CET
DTSTART:20251026T010000
END:STANDARD
END:VTIMEZONE
BEGIN:VEVENT
DTSTART;VALUE=DATE:20251018
DTEND;VALUE=DATE:20251020
DTSTAMP:20260418T015028
CREATED:20250129T184022Z
LAST-MODIFIED:20250129T184022Z
UID:2494-1760745600-1760918399@rallyedelasarthe.com
SUMMARY:RALLYE DE CHARENTE
DESCRIPTION:La finale du Championnat de France des Rallyes.
URL:https://rallyedelasarthe.com/event/rallye-de-charente-2/
LOCATION:ROUILLAC 16
END:VEVENT
END:VCALENDAR