BEGIN:VCALENDAR
VERSION:2.0
PRODID:-//Rallye de la Sarthe - ECPv6.3.7//NONSGML v1.0//EN
CALSCALE:GREGORIAN
METHOD:PUBLISH
X-ORIGINAL-URL:https://rallyedelasarthe.com
X-WR-CALDESC:évènements pour Rallye de la Sarthe
REFRESH-INTERVAL;VALUE=DURATION:PT1H
X-Robots-Tag:noindex
X-PUBLISHED-TTL:PT1H
BEGIN:VTIMEZONE
TZID:Europe/Paris
BEGIN:DAYLIGHT
TZOFFSETFROM:+0100
TZOFFSETTO:+0200
TZNAME:CEST
DTSTART:20250330T010000
END:DAYLIGHT
BEGIN:STANDARD
TZOFFSETFROM:+0200
TZOFFSETTO:+0100
TZNAME:CET
DTSTART:20251026T010000
END:STANDARD
END:VTIMEZONE
BEGIN:VEVENT
DTSTART;TZID=Europe/Paris:20251112T093000
DTEND;TZID=Europe/Paris:20251112T170000
DTSTAMP:20260415T095047
CREATED:20250129T181148Z
LAST-MODIFIED:20250129T181148Z
UID:2473-1762939800-1762966800@rallyedelasarthe.com
SUMMARY:SESSION EDUCATIVE KID AS MOTO
DESCRIPTION:Demi-journées éducatives moto pour les enfants de 6 à 13 ans
URL:https://rallyedelasarthe.com/event/session-educative-kid-as-moto/
LOCATION:Piste de karting Alain Prost
END:VEVENT
END:VCALENDAR