BEGIN:VCALENDAR
VERSION:2.0
PRODID:-//Rallye de la Sarthe - ECPv6.3.7//NONSGML v1.0//EN
CALSCALE:GREGORIAN
METHOD:PUBLISH
X-WR-CALNAME:Rallye de la Sarthe
X-ORIGINAL-URL:https://rallyedelasarthe.com
X-WR-CALDESC:évènements pour Rallye de la Sarthe
REFRESH-INTERVAL;VALUE=DURATION:PT1H
X-Robots-Tag:noindex
X-PUBLISHED-TTL:PT1H
BEGIN:VTIMEZONE
TZID:Europe/Paris
BEGIN:DAYLIGHT
TZOFFSETFROM:+0100
TZOFFSETTO:+0200
TZNAME:CEST
DTSTART:20250330T010000
END:DAYLIGHT
BEGIN:STANDARD
TZOFFSETFROM:+0200
TZOFFSETTO:+0100
TZNAME:CET
DTSTART:20251026T010000
END:STANDARD
END:VTIMEZONE
BEGIN:VEVENT
DTSTART;VALUE=DATE:20250503
DTEND;VALUE=DATE:20250505
DTSTAMP:20260422T143710
CREATED:20250129T180000Z
LAST-MODIFIED:20250129T180000Z
UID:2456-1746230400-1746403199@rallyedelasarthe.com
SUMMARY:RALLYE DE LA SARTHE
DESCRIPTION:
URL:https://rallyedelasarthe.com/event/rallye-de-la-sarthe/
LOCATION:LE GRAND-LUCE 72
END:VEVENT
BEGIN:VEVENT
DTSTART;TZID=Europe/Paris:20250514T090000
DTEND;TZID=Europe/Paris:20250514T170000
DTSTAMP:20260422T143710
CREATED:20250129T180449Z
LAST-MODIFIED:20250129T180449Z
UID:2463-1747213200-1747242000@rallyedelasarthe.com
SUMMARY:SESSION KID AS MOTO
DESCRIPTION:Demi- journées éducatives pour les enfants de 6 à 13 ans
URL:https://rallyedelasarthe.com/event/session-kid-as-moto-8/
LOCATION:Piste de karting Alain Prost
END:VEVENT
BEGIN:VEVENT
DTSTART;VALUE=DATE:20250521
DTEND;VALUE=DATE:20250526
DTSTAMP:20260422T143710
CREATED:20250129T182313Z
LAST-MODIFIED:20250129T182313Z
UID:2479-1747785600-1748217599@rallyedelasarthe.com
SUMMARY:CHALLENGE TOUR
DESCRIPTION:Un rallye hors championnat sur 4 jours.
URL:https://rallyedelasarthe.com/event/challenge-tour/
LOCATION:Vaison piste 71
END:VEVENT
END:VCALENDAR