BEGIN:VCALENDAR
VERSION:2.0
PRODID:-//Rallye de la Sarthe - ECPv6.3.7//NONSGML v1.0//EN
CALSCALE:GREGORIAN
METHOD:PUBLISH
X-ORIGINAL-URL:https://rallyedelasarthe.com
X-WR-CALDESC:évènements pour Rallye de la Sarthe
REFRESH-INTERVAL;VALUE=DURATION:PT1H
X-Robots-Tag:noindex
X-PUBLISHED-TTL:PT1H
BEGIN:VTIMEZONE
TZID:Europe/Paris
BEGIN:DAYLIGHT
TZOFFSETFROM:+0100
TZOFFSETTO:+0200
TZNAME:CEST
DTSTART:20250330T010000
END:DAYLIGHT
BEGIN:STANDARD
TZOFFSETFROM:+0200
TZOFFSETTO:+0100
TZNAME:CET
DTSTART:20251026T010000
END:STANDARD
END:VTIMEZONE
BEGIN:VEVENT
DTSTART;VALUE=DATE:20250906
DTEND;VALUE=DATE:20250908
DTSTAMP:20260420T070211
CREATED:20250129T183334Z
LAST-MODIFIED:20250129T183334Z
UID:2487-1757116800-1757289599@rallyedelasarthe.com
SUMMARY:RALLYE DE CORSE
DESCRIPTION:Le retour d’une épreuve de championnat de France des Rallyes en Corse
URL:https://rallyedelasarthe.com/event/rallye-de-corse/
LOCATION:Porticcio 2a
END:VEVENT
BEGIN:VEVENT
DTSTART;VALUE=DATE:20250908
DTEND;VALUE=DATE:20250910
DTSTAMP:20260420T070211
CREATED:20250129T184726Z
LAST-MODIFIED:20250129T184726Z
UID:2503-1757289600-1757462399@rallyedelasarthe.com
SUMMARY:STAGE INISIDE
DESCRIPTION:L’ASMACO organise des stages d’initiation à la conduite du side-car depuis 35 ans. Osez la troisième roue !
URL:https://rallyedelasarthe.com/event/stage-iniside-4/
LOCATION:LE MANS
END:VEVENT
BEGIN:VEVENT
DTSTART;TZID=Europe/Paris:20250924T093000
DTEND;TZID=Europe/Paris:20250924T170000
DTSTAMP:20260420T070211
CREATED:20250129T180909Z
LAST-MODIFIED:20250129T180909Z
UID:2469-1758706200-1758733200@rallyedelasarthe.com
SUMMARY:SESSION KID AS MOTO
DESCRIPTION:Session éducative moto pour les enfants de 6 à 13 ans.
URL:https://rallyedelasarthe.com/event/session-kid-as-moto-11/
LOCATION:Piste de karting Alain Prost
END:VEVENT
BEGIN:VEVENT
DTSTART;VALUE=DATE:20250927
DTEND;VALUE=DATE:20250929
DTSTAMP:20260420T070211
CREATED:20250129T183625Z
LAST-MODIFIED:20250129T183625Z
UID:2491-1758931200-1759103999@rallyedelasarthe.com
SUMMARY:RALLYE DES ROUTES DU GARD
DESCRIPTION:Un rallye tout nouveau au départ de Nîmes.
URL:https://rallyedelasarthe.com/event/rallye-des-routes-du-gard/
LOCATION:NIMES
END:VEVENT
END:VCALENDAR